BEGIN:VCALENDAR
VERSION:2.0
PRODID:-//Divercity - ECPv6.15.17.1//NONSGML v1.0//EN
CALSCALE:GREGORIAN
METHOD:PUBLISH
X-WR-CALNAME:Divercity
X-ORIGINAL-URL:https://divercity.ch
X-WR-CALDESC:Veranstaltungen für Divercity
REFRESH-INTERVAL;VALUE=DURATION:PT1H
X-Robots-Tag:noindex
X-PUBLISHED-TTL:PT1H
BEGIN:VTIMEZONE
TZID:Europe/Paris
BEGIN:DAYLIGHT
TZOFFSETFROM:+0100
TZOFFSETTO:+0200
TZNAME:CEST
DTSTART:20230326T010000
END:DAYLIGHT
BEGIN:STANDARD
TZOFFSETFROM:+0200
TZOFFSETTO:+0100
TZNAME:CET
DTSTART:20231029T010000
END:STANDARD
BEGIN:DAYLIGHT
TZOFFSETFROM:+0100
TZOFFSETTO:+0200
TZNAME:CEST
DTSTART:20240331T010000
END:DAYLIGHT
BEGIN:STANDARD
TZOFFSETFROM:+0200
TZOFFSETTO:+0100
TZNAME:CET
DTSTART:20241027T010000
END:STANDARD
BEGIN:DAYLIGHT
TZOFFSETFROM:+0100
TZOFFSETTO:+0200
TZNAME:CEST
DTSTART:20250330T010000
END:DAYLIGHT
BEGIN:STANDARD
TZOFFSETFROM:+0200
TZOFFSETTO:+0100
TZNAME:CET
DTSTART:20251026T010000
END:STANDARD
END:VTIMEZONE
BEGIN:VEVENT
DTSTART;TZID=Europe/Paris:20240519T230000
DTEND;TZID=Europe/Paris:20240520T060000
DTSTAMP:20260420T170932
CREATED:20240422T165450Z
LAST-MODIFIED:20240422T172003Z
UID:6764-1716159600-1716184800@divercity.ch
SUMMARY:Bass Drama
DESCRIPTION:LineUp \n\nCRUMBLING EMPIRE\nDELILAH\nFRONTLINE\nMENINO\nROLLIN JOHN\nROSA PAGANO\nSNES\nSUBKEY\nTACTIQAL\nZ3MO\n\n \n\nab 21 Jahren \n \n\nAm Pfingstsonntag\, dem 19.Mai\, öffnet das Kauz sein Nest für eine weitere Ausgabe von Bass Drama. Doch es erwarten Euch nicht nur ein Stockwerk voller Bass\, sondern gleich zwei! Upstairs wird Jungle\, UK Garage und UK BASS zum Besten gegeben und Downstairs erwarten Euch All Styles of Drum and Bass. Also Nachteulen aufgepasst! Viele Stunden voller Bass\, Beats und Bombenstimmung sind an der Nachtordnung. Euch davon zu überzeugen\, dass dies zu Eurem Wohlbefinden beiträgt\, ist so überflüssig wie Eulen nach Athen zu tragen. Mit DJs wie Frontline\, Rosa Pagano\, Snes\, Tactiqal und Z3mo werden selbst die kauzigsten Gesellen zu tanzfreudigen Gästen. Wer sich auf UK Garage freut\, der sollte Delilah (Divercity)\, Menino und Subkey nicht verpassen! Sie verwandlen jedes kritische Adlerauge in ein vor Genuss blinzelndes. Natürlich werden auch unsere Resident-Djs Rollin John und Crumbling Empire Töne erklingen lassen\, die jede Nachtigall beschämen könnten. Ob früher Vogel oder seltsamer Kauz\, das Kauz ist für alle da! Deshalb verpasse diese Gelegenheit nicht und werde flügge! Am 19.Mai im Kauz in Zürich für eine weitere Ausgabe von Bass Drama. Wir freuen uns auf Euch! \n\n \nMuch Löv\, \nDivercity-Family \n \n\n\n\n \n— Links: — \n \n\nKauz \nhttps://www.kauzig.ch/ \n\n \nDivercity Bass \nhttps://linktr.ee/divercitybass
URL:https://divercity.ch/event/bass-drama-2/
LOCATION:KAUZ\, Ausstellungsstrasse 21\, Zürich\, 8005\, Schweiz
CATEGORIES:Divercity Events
ATTACH;FMTTYPE=image/png:https://divercity.ch/wp-content/uploads/2024/04/kauzMai_facebook.png
END:VEVENT
END:VCALENDAR