BEGIN:VCALENDAR
VERSION:2.0
PRODID:-//Divercity - ECPv6.15.17.1//NONSGML v1.0//EN
CALSCALE:GREGORIAN
METHOD:PUBLISH
X-WR-CALNAME:Divercity
X-ORIGINAL-URL:https://divercity.ch
X-WR-CALDESC:Veranstaltungen für Divercity
REFRESH-INTERVAL;VALUE=DURATION:PT1H
X-Robots-Tag:noindex
X-PUBLISHED-TTL:PT1H
BEGIN:VTIMEZONE
TZID:Europe/Zurich
BEGIN:DAYLIGHT
TZOFFSETFROM:+0100
TZOFFSETTO:+0200
TZNAME:CEST
DTSTART:20230326T010000
END:DAYLIGHT
BEGIN:STANDARD
TZOFFSETFROM:+0200
TZOFFSETTO:+0100
TZNAME:CET
DTSTART:20231029T010000
END:STANDARD
BEGIN:DAYLIGHT
TZOFFSETFROM:+0100
TZOFFSETTO:+0200
TZNAME:CEST
DTSTART:20240331T010000
END:DAYLIGHT
BEGIN:STANDARD
TZOFFSETFROM:+0200
TZOFFSETTO:+0100
TZNAME:CET
DTSTART:20241027T010000
END:STANDARD
BEGIN:DAYLIGHT
TZOFFSETFROM:+0100
TZOFFSETTO:+0200
TZNAME:CEST
DTSTART:20250330T010000
END:DAYLIGHT
BEGIN:STANDARD
TZOFFSETFROM:+0200
TZOFFSETTO:+0100
TZNAME:CET
DTSTART:20251026T010000
END:STANDARD
END:VTIMEZONE
BEGIN:VEVENT
DTSTART;TZID=Europe/Zurich:20240331T230000
DTEND;TZID=Europe/Zurich:20240401T060000
DTSTAMP:20260420T171016
CREATED:20240209T111302Z
LAST-MODIFIED:20240301T232226Z
UID:6523-1711926000-1711951200@divercity.ch
SUMMARY:Hospitality Zürich
DESCRIPTION:LineUp \n\nMETRIK (presents Awake)\nFRED V\nUNGLUED\nANAÏS\nHosted by: RUTHLESS\nSupport by: DELILAH & CRISCI\n\n \nab 18 Jahren \nTickets: https://www.seetickets.com/ch/event/hospitality-zurich/max-hardstrasse-219/2943492 \n   Early Bird     24.- \n   Regular        33.- \n   Last Call       39.- \n \nAm 31. März erwacht nicht nur Frühling\, sondern auch wir. Divercity und das Mäx laden Euch deshalb zu einem Event ein\, der selbst trägen Geistern wieder Leben einhauchen wird. Ein Lineup zum Shaken\, geshakte Getränke an der Bar und schäckernde Gesellschaft sind an der Tagesordnung. \nWer morgens nicht aus dem Bett kommt\, sollte erst am Morgen ins Bett gehen. Unser erster Gast hilft Dir bei diesem Unterfangen: Metrik. Das britische Talent präsentiert sein neues Album ‚Awake‘. Wem die Tunes ‚Abyss‘ und ‚Awake‘ bereits die Schuhe ausgezogen haben\, kann sich auf bisher unreleaste Banger und beliebte Classics freuen. \nVor dem ersten Hahnenschrei geht niemand heim und wenn Fred V hinter den Tellern steht sowieso nicht. Die musikalische Grösse hilft mit Beats und Sounds zu neuem spirituellem Erwachen. Ob neue Hits wie ‚Metronome‘ oder bekannte Evergreens wie ‚Atmosphere‘ – wir werden seiner niemals müde. \nAuch von Unglued können wir nicht genug kriegen! Wer drückt schon auf Snooze\, wenn man auf die Tube drücken kann? Insbesondere wenn ‚Malware‘ oder ‚If We Ever Remix‘ aus den Boxen dröhnt. \nAuch dank dem nächsten Act bleiben wir nicht nur putzmunter\, sondern auch quietschfidel. Up and coming Artist Anaïs mixt sich in Eure Herzen und auch die Beine. Zum Beispiel ‚Want u‘\, ‚Headshot‘ und ‚Round To Ya Speaker‘ sind Titel\, die Euch die Augen öffnen. \nUnterstützt werden unsere Talente vom wachsamen Ruthless. Er sorgt dafür\, dass wir uns nicht den Schlaf aus den Augen reiben\, sondern den Schweiss aus den Poren treiben. Natürlich werden auch unsere Divercity-Residents Delilah und Crisci sich mit uns die Nacht um die Ohren schlagen. Ihr seht die Uhr tickt\, aber der Wecker muss warten! Also aufgewacht und aufgestanden! Schlafen können wir noch\, wenn wir tot sind. Also verschlafe diese Gelegenheit nicht und komm zu uns! Am 31. März ins Mäx zu einer weiteren Ausgabe der Hospitality Zürich. \n \nWir freuen uns auf Euch! \n \nMuch Löv\, \nDivercity-Family \n \n— Links: — \n \nMetrik \nhttps://www.facebook.com/metrikmusic \nhttps://soundcloud.com/metrik \n \nFred V \nhttps://www.facebook.com/FredVMusic \nhttps://soundcloud.com/fredvmusic \n \nUnglued \nhttps://www.facebook.com/unglueddnb \nhttps://soundcloud.com/unglueddnb \n \nAnaïs \nhttps://www.instagram.com/anaisjan/ \nhttps://soundcloud.com/ana-s-jan \n \nRuthless \nhttps://www.facebook.com/ruthlessmc \nhttps://soundcloud.com/ruthlessmc \n \nHospitalityDNB \nhttps://www.hospitalitydnb.com/ \nhttps://www.facebook.com/Hospitalitydnb/ \n \nMÄX \nhttps://maexzuerich.com/ \nhttps://www.facebook.com/maexzuerich/ \n \nDivercity Bass \nhttps://linktr.ee/divercitybass
URL:https://divercity.ch/event/hospitality-zuerich/
LOCATION:MÄX\, Hardstrasse 219\, Zürich\, 8005\, Schweiz
CATEGORIES:Divercity Events
ATTACH;FMTTYPE=image/jpeg:https://divercity.ch/wp-content/uploads/2024/02/Hospital_Zurich-2-16x9-2.jpeg
END:VEVENT
END:VCALENDAR